BEGIN:VCALENDAR
VERSION:2.0
PRODID:-//Show-Me Christian Youth Home - ECPv6.15.14//NONSGML v1.0//EN
CALSCALE:GREGORIAN
METHOD:PUBLISH
X-WR-CALNAME:Show-Me Christian Youth Home
X-ORIGINAL-URL:https://showmehelpingkids.com
X-WR-CALDESC:Events for Show-Me Christian Youth Home
REFRESH-INTERVAL;VALUE=DURATION:PT1H
X-Robots-Tag:noindex
X-PUBLISHED-TTL:PT1H
BEGIN:VTIMEZONE
TZID:America/Chicago
BEGIN:DAYLIGHT
TZOFFSETFROM:-0600
TZOFFSETTO:-0500
TZNAME:CDT
DTSTART:20160313T080000
END:DAYLIGHT
BEGIN:STANDARD
TZOFFSETFROM:-0500
TZOFFSETTO:-0600
TZNAME:CST
DTSTART:20161106T070000
END:STANDARD
BEGIN:DAYLIGHT
TZOFFSETFROM:-0600
TZOFFSETTO:-0500
TZNAME:CDT
DTSTART:20170312T080000
END:DAYLIGHT
BEGIN:STANDARD
TZOFFSETFROM:-0500
TZOFFSETTO:-0600
TZNAME:CST
DTSTART:20171105T070000
END:STANDARD
BEGIN:DAYLIGHT
TZOFFSETFROM:-0600
TZOFFSETTO:-0500
TZNAME:CDT
DTSTART:20180311T080000
END:DAYLIGHT
BEGIN:STANDARD
TZOFFSETFROM:-0500
TZOFFSETTO:-0600
TZNAME:CST
DTSTART:20181104T070000
END:STANDARD
BEGIN:DAYLIGHT
TZOFFSETFROM:-0600
TZOFFSETTO:-0500
TZNAME:CDT
DTSTART:20190310T080000
END:DAYLIGHT
BEGIN:STANDARD
TZOFFSETFROM:-0500
TZOFFSETTO:-0600
TZNAME:CST
DTSTART:20191103T070000
END:STANDARD
BEGIN:DAYLIGHT
TZOFFSETFROM:-0600
TZOFFSETTO:-0500
TZNAME:CDT
DTSTART:20200308T080000
END:DAYLIGHT
BEGIN:STANDARD
TZOFFSETFROM:-0500
TZOFFSETTO:-0600
TZNAME:CST
DTSTART:20201101T070000
END:STANDARD
BEGIN:DAYLIGHT
TZOFFSETFROM:-0600
TZOFFSETTO:-0500
TZNAME:CDT
DTSTART:20210314T080000
END:DAYLIGHT
BEGIN:STANDARD
TZOFFSETFROM:-0500
TZOFFSETTO:-0600
TZNAME:CST
DTSTART:20211107T070000
END:STANDARD
BEGIN:DAYLIGHT
TZOFFSETFROM:-0600
TZOFFSETTO:-0500
TZNAME:CDT
DTSTART:20220313T080000
END:DAYLIGHT
BEGIN:STANDARD
TZOFFSETFROM:-0500
TZOFFSETTO:-0600
TZNAME:CST
DTSTART:20221106T070000
END:STANDARD
BEGIN:DAYLIGHT
TZOFFSETFROM:-0600
TZOFFSETTO:-0500
TZNAME:CDT
DTSTART:20230312T080000
END:DAYLIGHT
BEGIN:STANDARD
TZOFFSETFROM:-0500
TZOFFSETTO:-0600
TZNAME:CST
DTSTART:20231105T070000
END:STANDARD
BEGIN:DAYLIGHT
TZOFFSETFROM:-0600
TZOFFSETTO:-0500
TZNAME:CDT
DTSTART:20240310T080000
END:DAYLIGHT
BEGIN:STANDARD
TZOFFSETFROM:-0500
TZOFFSETTO:-0600
TZNAME:CST
DTSTART:20241103T070000
END:STANDARD
BEGIN:DAYLIGHT
TZOFFSETFROM:-0600
TZOFFSETTO:-0500
TZNAME:CDT
DTSTART:20250309T080000
END:DAYLIGHT
BEGIN:STANDARD
TZOFFSETFROM:-0500
TZOFFSETTO:-0600
TZNAME:CST
DTSTART:20251102T070000
END:STANDARD
BEGIN:DAYLIGHT
TZOFFSETFROM:-0600
TZOFFSETTO:-0500
TZNAME:CDT
DTSTART:20260308T080000
END:DAYLIGHT
BEGIN:STANDARD
TZOFFSETFROM:-0500
TZOFFSETTO:-0600
TZNAME:CST
DTSTART:20261101T070000
END:STANDARD
END:VTIMEZONE
BEGIN:VTIMEZONE
TZID:UTC
BEGIN:STANDARD
TZOFFSETFROM:+0000
TZOFFSETTO:+0000
TZNAME:UTC
DTSTART:20210101T000000
END:STANDARD
END:VTIMEZONE
BEGIN:VEVENT
DTSTART;TZID=America/Chicago:20251122T120000
DTEND;TZID=America/Chicago:20251122T140000
DTSTAMP:20260421T033021
CREATED:20250401T154017Z
LAST-MODIFIED:20250401T154028Z
UID:14190-1763812800-1763820000@showmehelpingkids.com
SUMMARY:Show-Me Friends & Family Thanksgiving Dinner
DESCRIPTION:All Show-Me Alumni are invited to join us for the Show-Me Family Thanksgiving Dinner from 12:00 to 1:30 PM. Each year\, the Saturday before Thanksgiving\, our current staff provides a traditional Thanksgiving Dinner free of charge to all former staff and children. Please pass this information on to any alumni with whom you stay in touch.
URL:https://showmehelpingkids.com/event/show-me-friends-family-thanksgiving-dinner/
LOCATION:Show-Me Christian Youth Home\, 24302 Mahin Rd\, La Monte\, MO\, 65337\, United States
CATEGORIES:Food
ATTACH;FMTTYPE=image/png:https://showmehelpingkids.com/wp-content/uploads/2025/04/White-and-Orange-Thanksgiving-Dinner-Invitation-Instagram-Post.png
END:VEVENT
BEGIN:VEVENT
DTSTART;TZID=America/Chicago:20250906T100000
DTEND;TZID=America/Chicago:20250906T143000
DTSTAMP:20260421T033021
CREATED:20250401T153613Z
LAST-MODIFIED:20250401T194402Z
UID:14187-1757152800-1757169000@showmehelpingkids.com
SUMMARY:Show-Me Open House
DESCRIPTION:We invite you to join us for our annual open house celebration.\nAll activities are FREE\, just come and hang out with us!\nMeet the families of Show-Me Christian Youth Home.\nSee the talents of the children of Show-Me through music\, crafts and horsemanship.\nEnjoy a fabulous lunch and live entertainment.\nFun activities for kids of all ages.
URL:https://showmehelpingkids.com/event/show-me-open-house/
LOCATION:Show-Me Christian Youth Home\, 24302 Mahin Rd\, La Monte\, MO\, 65337\, United States
CATEGORIES:Community,Food,Music,Outreach
ATTACH;FMTTYPE=image/png:https://showmehelpingkids.com/wp-content/uploads/2025/04/2025-Thanksgiving-Dinner.png
ORGANIZER;CN="Judi Crawford":MAILTO:judi.crawford@showmekids.org
END:VEVENT
BEGIN:VEVENT
DTSTART;TZID=America/Chicago:20250509T180000
DTEND;TZID=America/Chicago:20250509T200000
DTSTAMP:20260421T033021
CREATED:20250401T170655Z
LAST-MODIFIED:20250401T170655Z
UID:14193-1746813600-1746820800@showmehelpingkids.com
SUMMARY:Graduation 2025
DESCRIPTION:
URL:https://showmehelpingkids.com/event/graduation-2025/
LOCATION:Show-Me Christian Youth Home\, 24302 Mahin Rd\, La Monte\, MO\, 65337\, United States
ATTACH;FMTTYPE=image/png:https://showmehelpingkids.com/wp-content/uploads/2025/04/2025-Thanksgiving-Dinner-1.png
END:VEVENT
BEGIN:VEVENT
DTSTART;TZID=America/Chicago:20241123T120000
DTEND;TZID=America/Chicago:20241123T133000
DTSTAMP:20260421T033021
CREATED:20240216T195232Z
LAST-MODIFIED:20240216T195232Z
UID:13973-1732363200-1732368600@showmehelpingkids.com
SUMMARY:Show-Me Family Thanksgiving Dinner
DESCRIPTION:All Show-Me Alumni are invited to join us for the Show-Me Family Thanksgiving Dinner from 12:00 to 1:30 PM. Each year\, the Saturday before Thanksgiving\, our current staff provides a traditional Thanksgiving Dinner free of charge to all former staff and children. Please pass this information on to any alumni with whom you stay in touch.
URL:https://showmehelpingkids.com/event/show-me-family-thanksgiving-dinner/
LOCATION:Show-Me Christian Youth Home\, 24302 Mahin Rd\, La Monte\, MO\, 65337\, United States
ATTACH;FMTTYPE=image/jpeg:https://showmehelpingkids.com/wp-content/uploads/2024/02/Brown-Watercolor-Thanksgiving-Invitation-Instagram-Post.jpg
END:VEVENT
BEGIN:VEVENT
DTSTART;VALUE=DATE:20241114
DTEND;VALUE=DATE:20241117
DTSTAMP:20260421T033021
CREATED:20240216T203103Z
LAST-MODIFIED:20240216T203103Z
UID:13982-1731542400-1731801599@showmehelpingkids.com
SUMMARY:International Conference On Missions
DESCRIPTION:Representatives from Show-Me Christian Youth Home will be attending this event and will have a booth set up to welcome anyone wanting to learn more about the ministry or anyone just wanting to stop by and say\, “Hello”.  We look forward to seeing you there!
URL:https://showmehelpingkids.com/event/international-conference-on-missions/
LOCATION:Rupp Arena\, 430 W Vine St\, Lexinton\, MO\, 40507\, United States
ATTACH;FMTTYPE=image/webp:https://showmehelpingkids.com/wp-content/uploads/2024/02/web-banner-2024.webp
END:VEVENT
BEGIN:VEVENT
DTSTART;TZID=America/Chicago:20240907T100000
DTEND;TZID=America/Chicago:20240907T160000
DTSTAMP:20260421T033021
CREATED:20240807T214215Z
LAST-MODIFIED:20240807T214233Z
UID:14079-1725703200-1725724800@showmehelpingkids.com
SUMMARY:Show-Me Annual Open House
DESCRIPTION:We invite you to join us for our annual open house celebration.\nAll activities are FREE\, just come and hang out with us!\nMeet the families of Show-Me Christian Youth Home.\nSee the talents of the children of Show-Me through music\, crafts and horsemanship.\nEnjoy a fabulous lunch and live entertainment.\nFun activities for kids of all ages. \nVideo Invitation:  https://youtu.be/b_X6G1KZH5o
URL:https://showmehelpingkids.com/event/show-me-annual-open-house/
LOCATION:Show-Me Christian Youth Home\, 24302 Mahin Rd\, La Monte\, MO\, 65337\, United States
CATEGORIES:Community,Food,Music
ATTACH;FMTTYPE=image/jpeg:https://showmehelpingkids.com/wp-content/uploads/2024/08/Invite24.jpg
END:VEVENT
BEGIN:VEVENT
DTSTART;TZID=America/Chicago:20240510T180000
DTEND;TZID=America/Chicago:20240510T200000
DTSTAMP:20260421T033021
CREATED:20240216T205928Z
LAST-MODIFIED:20240304T191857Z
UID:13986-1715364000-1715371200@showmehelpingkids.com
SUMMARY:Show-Me Christian School Graduation
DESCRIPTION:
URL:https://showmehelpingkids.com/event/show-me-christian-school-graduation-2/
LOCATION:Show-Me Christian Youth Home\, 24302 Mahin Rd\, La Monte\, MO\, 65337\, United States
ATTACH;FMTTYPE=image/jpeg:https://showmehelpingkids.com/wp-content/uploads/2024/02/Show-Me-Graduation-2024-B.jpg
END:VEVENT
BEGIN:VEVENT
DTSTART;TZID=America/Chicago:20240316T090000
DTEND;TZID=America/Chicago:20240316T200000
DTSTAMP:20260421T033021
CREATED:20240220T173937Z
LAST-MODIFIED:20240220T173937Z
UID:13992-1710579600-1710619200@showmehelpingkids.com
SUMMARY:Culler Memorial Basketball Tournament
DESCRIPTION:Join us for a fun day of friendly competition on the court.  We will be hosting 8 adult basketball teams for a double-elimination memorial tournament with the first game beginning at 9:00 AM.  The championship game will be played at 5:00 PM followed by the third place and consolation games.
URL:https://showmehelpingkids.com/event/culler-memorial-basketball-tournament/
LOCATION:Show-Me Christian Youth Home\, 24302 Mahin Rd\, La Monte\, MO\, 65337\, United States
ATTACH;FMTTYPE=image/jpeg:https://showmehelpingkids.com/wp-content/uploads/2024/02/Copy-of-Basketball-Tournament-Flyer.jpg
END:VEVENT
BEGIN:VEVENT
DTSTART;TZID=America/Chicago:20240308T140000
DTEND;TZID=America/Chicago:20240309T170000
DTSTAMP:20260421T033021
CREATED:20240216T200008Z
LAST-MODIFIED:20240216T200008Z
UID:13976-1709906400-1710003600@showmehelpingkids.com
SUMMARY:Show-Me Representative At Missouri Christian Convention
DESCRIPTION:We will have a booth at the Missouri Christian Convention.  If you are planning to attend\, make sure to swing by the exhibit hall to say hello.  We will be happy to update you about the exciting things going on at Show-Me!
URL:https://showmehelpingkids.com/event/show-me-representative-at-missouri-christian-convention/
LOCATION:Lodge of the Four Seasons\, Lake of the Ozarks\, MO\, 315 Four Seasons Dr\, Lake Ozark\, MO\, 65049\, United States
ATTACH;FMTTYPE=image/webp:https://showmehelpingkids.com/wp-content/uploads/2024/02/convention24.webp
END:VEVENT
BEGIN:VEVENT
DTSTART;TZID=America/Chicago:20231118T120000
DTEND;TZID=America/Chicago:20231118T133000
DTSTAMP:20260421T033021
CREATED:20230424T145911Z
LAST-MODIFIED:20230424T145911Z
UID:13597-1700308800-1700314200@showmehelpingkids.com
SUMMARY:Show-Me Family Thanksgiving Dinner
DESCRIPTION:All Show-Me Alumni are invited to join us for the Show-Me Family Thanksgiving Dinner from 12:00 to 1:30 PM. Each year\, the Saturday before Thanksgiving\, our current staff provides a traditional Thanksgiving Dinner free of charge to all former staff and children. Please pass this information on to any alumni with whom you stay in touch.
URL:https://showmehelpingkids.com/event/show-me-family-thanksgiving-dinner-2/
LOCATION:MO
ATTACH;FMTTYPE=image/jpeg:https://showmehelpingkids.com/wp-content/uploads/2023/01/Brown-Cream-Simple-Elegant-Thanksgiving-Day-Celebration-Invitation-e1673473410266.jpg
ORGANIZER;CN="Judi Crawford":MAILTO:judi.crawford@showmekids.org
END:VEVENT
BEGIN:VEVENT
DTSTART;VALUE=DATE:20231115
DTEND;VALUE=DATE:20231120
DTSTAMP:20260421T033021
CREATED:20230424T151851Z
LAST-MODIFIED:20230424T151851Z
UID:13605-1700006400-1700438399@showmehelpingkids.com
SUMMARY:International Conference on Missions 2023
DESCRIPTION:Representatives from Show-Me Christian Youth Home will be attending this event and will have a booth set up to welcome anyone wanting to learn more about the ministry or anyone just wanting to stop by and say\, “Hello”.  We look forward to seeing you there!
URL:https://showmehelpingkids.com/event/international-conference-on-missions-2023-2/
LOCATION:MO
ATTACH;FMTTYPE=image/webp:https://showmehelpingkids.com/wp-content/uploads/2023/01/HopeForTheNations-logo-e1673474998738.webp
END:VEVENT
BEGIN:VEVENT
DTSTART;TZID=America/Chicago:20230909T100000
DTEND;TZID=America/Chicago:20230909T160000
DTSTAMP:20260421T033021
CREATED:20230424T151126Z
LAST-MODIFIED:20230424T155236Z
UID:13601-1694253600-1694275200@showmehelpingkids.com
SUMMARY:Open House
DESCRIPTION:Come See Show-Me! You are invited to enjoy lunch\, meet the families\, tour the homes and be entertained by live music. We hope you will join us at our La Monte location on this special day! \n\n10 AM  Tours\n11 AM  Lunch\n12:30  Program\n3 PM  Horse Expo
URL:https://showmehelpingkids.com/event/open-house-2/
LOCATION:Show-Me Christian Youth Home\, 24302 Mahin Rd\, La Monte\, MO\, 65337\, United States
ATTACH;FMTTYPE=image/jpeg:https://showmehelpingkids.com/wp-content/uploads/2023/04/OpenHouseFlyer_Page_8.jpg
END:VEVENT
BEGIN:VEVENT
DTSTART;TZID=America/Chicago:20230512T190000
DTEND;TZID=America/Chicago:20230512T203000
DTSTAMP:20260421T033021
CREATED:20230424T150245Z
LAST-MODIFIED:20230424T150245Z
UID:13599-1683918000-1683923400@showmehelpingkids.com
SUMMARY:2023 Show-Me Christian School Graduation
DESCRIPTION:
URL:https://showmehelpingkids.com/event/2023-show-me-christian-school-graduation-2/
LOCATION:Show-Me Christian Youth Home\, 24302 Mahin Rd\, La Monte\, MO\, 65337\, United States
ATTACH;FMTTYPE=image/jpeg:https://showmehelpingkids.com/wp-content/uploads/2023/04/PathtoPurposeWEb2.jpg
END:VEVENT
BEGIN:VEVENT
DTSTART;TZID=America/Chicago:20230325T090000
DTEND;TZID=America/Chicago:20230325T200000
DTSTAMP:20260421T033021
CREATED:20230106T170620Z
LAST-MODIFIED:20230106T170620Z
UID:13716-1679734800-1679774400@showmehelpingkids.com
SUMMARY:Troy Culler Memorial Basketball Tournament
DESCRIPTION:Get your team together and head our way for some friendly competition. The registration fee is $150.00 per team. It has become a highlight of our Spring here at Show-Me. Don’t wait to register your team. The slots fill up fast.
URL:https://showmehelpingkids.com/event/troy-culler-memorial-basketball-tournament-4/
LOCATION:Show-Me Christian Youth Home\, 24302 Mahin Rd\, La Monte\, MO\, 65337\, United States
CATEGORIES:Community
ATTACH;FMTTYPE=image/jpeg:https://showmehelpingkids.com/wp-content/uploads/2018/12/TCMBT-Logo-2019.jpg
END:VEVENT
BEGIN:VEVENT
DTSTART;VALUE=DATE:20230310
DTEND;VALUE=DATE:20230313
DTSTAMP:20260421T033021
CREATED:20230111T215942Z
LAST-MODIFIED:20230111T215942Z
UID:13720-1678406400-1678665599@showmehelpingkids.com
SUMMARY:Missouri Christian Convention
DESCRIPTION:We will have a booth at the Missouri Christian Convention.  If you are planning to attend\, make sure to swing by the exhibit hall to say hello.  We will be happy to update you about the exciting things going on at Show-Me!
URL:https://showmehelpingkids.com/event/missouri-christian-convention-2/
LOCATION:Show-Me-girls-sep22
END:VEVENT
BEGIN:VEVENT
DTSTART;TZID=UTC:20220910T100000
DTEND;TZID=UTC:20220910T150000
DTSTAMP:20260421T033021
CREATED:20220525T170343Z
LAST-MODIFIED:20220525T170343Z
UID:12948-1662804000-1662822000@showmehelpingkids.com
SUMMARY:2022 Annual Open House
DESCRIPTION:Come See Show-Me! You are invited to enjoy lunch\, meet the families\, tour the homes and be entertained by live music. We hope you will join us at our La Monte location on this special day! \n\n10 AM  Tours\n11 AM  Lunch\n12:30  Program\n3 PM  Horse Expo
URL:https://showmehelpingkids.com/event/2022-annual-open-house/
LOCATION:Show-Me Christian Youth Home\, 24302 Mahin Rd\, La Monte\, MO\, 65337\, United States
ATTACH;FMTTYPE=:
END:VEVENT
BEGIN:VEVENT
DTSTART;TZID=America/Chicago:20210911T100000
DTEND;TZID=America/Chicago:20210911T150000
DTSTAMP:20260421T033021
CREATED:20210701T174026Z
LAST-MODIFIED:20210701T174026Z
UID:12836-1631354400-1631372400@showmehelpingkids.com
SUMMARY:2021 Annual Open House
DESCRIPTION:Join for a day full of families\, food\, fellowship\, and fun! \nSaturday\, Sept 11th 10AM-3PM \n-Meet the families \n-Tour the homes \n-Enjoy lunch \n-Fun kid’s activities all day \n-Great music \n-Horse program showcase
URL:https://showmehelpingkids.com/event/2021-annual-open-house/
LOCATION:Show-Me Christian Youth Home\, 24302 Mahin Rd\, La Monte\, MO\, 65337\, United States
CATEGORIES:Community,Food,Music
END:VEVENT
BEGIN:VEVENT
DTSTART;TZID=America/Chicago:20190907T100000
DTEND;TZID=America/Chicago:20190907T150000
DTSTAMP:20260421T033021
CREATED:20190606T001543Z
LAST-MODIFIED:20190606T001543Z
UID:12423-1567850400-1567868400@showmehelpingkids.com
SUMMARY:Annual Open House
DESCRIPTION:We invite you to join us for our annual open house celebration.\nAll activities are FREE\, just come and hang out with us!\nMeet the families of Show-Me Christian Youth Home.\nSee the talents of the children of Show-Me through music\, crafts and horsemanship.\nEnjoy a fabulous lunch\, catered by Nadler’s.\nHear the festive sounds of The Petersen’s during their concert after lunch.\nFun activities for kids of all ages.\nWatch the kids display all that they have learned in Leadership U during their horsemanship program.showshowshow
URL:https://showmehelpingkids.com/event/annual-open-house-4/
LOCATION:Show-Me Christian Youth Home\, 24302 Mahin Rd\, La Monte\, MO\, 65337\, United States
ATTACH;FMTTYPE=image/jpeg:https://showmehelpingkids.com/wp-content/uploads/2019/06/Facebook-photo.jpg
END:VEVENT
BEGIN:VEVENT
DTSTART;TZID=America/Chicago:20190511T140000
DTEND;TZID=America/Chicago:20190511T150000
DTSTAMP:20260421T033021
CREATED:20190212T013716Z
LAST-MODIFIED:20190212T013716Z
UID:12366-1557583200-1557586800@showmehelpingkids.com
SUMMARY:Show-Me Christian School Graduation
DESCRIPTION:Join us for the commencement ceremony for our Class of 2019.
URL:https://showmehelpingkids.com/event/show-me-christian-school-graduation/
LOCATION:Show-Me Christian Youth Home\, 24302 Mahin Rd\, La Monte\, MO\, 65337\, United States
ATTACH;FMTTYPE=image/jpeg:https://showmehelpingkids.com/wp-content/uploads/2019/02/Untitled-1.jpg
END:VEVENT
BEGIN:VEVENT
DTSTART;TZID=America/Chicago:20190426T180000
DTEND;TZID=America/Chicago:20190426T210000
DTSTAMP:20260421T033021
CREATED:20190212T014705Z
LAST-MODIFIED:20190212T014705Z
UID:12370-1556301600-1556312400@showmehelpingkids.com
SUMMARY:Larceny and Old Lace Play
DESCRIPTION:Join us for our first ever dinner theater. Enjoy a meal while our kids perform on stage “Larceny and Old Lace”. They have been working hard to perform all on-stage and backstage duties. You won’t want to miss our talented kids show off their talents in this hilarious comedy.
URL:https://showmehelpingkids.com/event/larceny-and-old-lace-play/
LOCATION:MO
CATEGORIES:Community,Food
ATTACH;FMTTYPE=image/jpeg:https://showmehelpingkids.com/wp-content/uploads/2019/02/Larceny-and-Old-Lace.jpg
END:VEVENT
BEGIN:VEVENT
DTSTART;VALUE=DATE:20190330
DTEND;VALUE=DATE:20190331
DTSTAMP:20260421T033021
CREATED:20190212T011259Z
LAST-MODIFIED:20190212T011259Z
UID:12361-1553904000-1553990399@showmehelpingkids.com
SUMMARY:Troy Culler Basketball Tournament
DESCRIPTION:Get your teams ready for the 16th Annual Troy Culler Memorial Basketball Tournament. This year\, we will again be hosting two tournament dates. The first tournament will be held February 23rd\, the second will be on March 30th. Get your teams together and head our way for some friendly competition. The registration fee is $150.00 per team\, per tournament date. Many of you have participated in this tournament year after year. It has become a highlight of our Spring here at Show-Me. Don’t wait to register your team\, slots fill up fast. We can’t wait!!!
URL:https://showmehelpingkids.com/event/troy-culler-basketball-tournament-2/
LOCATION:MO
CATEGORIES:Community
ATTACH;FMTTYPE=image/jpeg:https://showmehelpingkids.com/wp-content/uploads/2018/12/TCMBT-Logo-2019.jpg
END:VEVENT
BEGIN:VEVENT
DTSTART;TZID=America/Chicago:20190309T170000
DTEND;TZID=America/Chicago:20190309T210000
DTSTAMP:20260421T033021
CREATED:20190212T013348Z
LAST-MODIFIED:20190212T013348Z
UID:12363-1552150800-1552165200@showmehelpingkids.com
SUMMARY:2019 Restoration Gala
DESCRIPTION:Join us for an evening of vision and inspiration. \nFeaturing keynote speaker\, author\, Elizabeth Oates. \n5PM Registration and Social Hour Reception \nSilent Auction \n6:30 Dinner Served \n 
URL:https://showmehelpingkids.com/event/2019-restoration-gala/
LOCATION:UCM Elliott Student Union Ballroom\, Warrensburg\, United States
CATEGORIES:Community,Food
ATTACH;FMTTYPE=image/jpeg:https://showmehelpingkids.com/wp-content/uploads/2019/02/Gala-Event-Photo.jpg
END:VEVENT
BEGIN:VEVENT
DTSTART;VALUE=DATE:20190223
DTEND;VALUE=DATE:20190224
DTSTAMP:20260421T033021
CREATED:20190212T011105Z
LAST-MODIFIED:20190212T011105Z
UID:12359-1550880000-1550966399@showmehelpingkids.com
SUMMARY:Troy Culler Basketball Tournament
DESCRIPTION:Get your teams ready for the 16th Annual Troy Culler Memorial Basketball Tournament. This year\, we will again be hosting two tournament dates. The first tournament will be held February 23rd\, the second will be on March 30th. Get your teams together and head our way for some friendly competition. The registration fee is $150.00 per team\, per tournament date. Many of you have participated in this tournament year after year. It has become a highlight of our Spring here at Show-Me. Don’t wait to register your team\, slots fill up fast. We can’t wait!!!
URL:https://showmehelpingkids.com/event/troy-culler-basketball-tournament/
LOCATION:Show-Me Christian Youth Home\, 24302 Mahin Rd\, La Monte\, MO\, 65337\, United States
CATEGORIES:Community
ATTACH;FMTTYPE=image/jpeg:https://showmehelpingkids.com/wp-content/uploads/2018/12/TCMBT-Logo-2019.jpg
END:VEVENT
BEGIN:VEVENT
DTSTART;TZID=America/Chicago:20180908T100000
DTEND;TZID=America/Chicago:20180908T150000
DTSTAMP:20260421T033021
CREATED:20180730T220744Z
LAST-MODIFIED:20180730T220744Z
UID:12183-1536400800-1536418800@showmehelpingkids.com
SUMMARY:Annual Open House
DESCRIPTION:Join us from 10am-3pm\, Saturday\, September 8 for our annual open house! \n~ Meet the families \n~ Tour the homes \n~ Enjoy  lunch at noon (Catered by Nadler’s) \n~ Fun kids activities all day- Inflatables\, Yard Games\, Face Painting \n~ Fun concert \n~ Leadership U Horse program \nCome and go as you please. It is all for you\, and all for FREE! \n 
URL:https://showmehelpingkids.com/event/annual-open-house-2/
LOCATION:Show-Me Christian Youth Home\, 24302 Mahin Rd\, La Monte\, MO\, 65337\, United States
CATEGORIES:Community,Food
ATTACH;FMTTYPE=image/jpeg:https://showmehelpingkids.com/wp-content/uploads/2018/07/Web-Event-Photo-2018.jpg
END:VEVENT
BEGIN:VEVENT
DTSTART;VALUE=DATE:20180324
DTEND;VALUE=DATE:20180325
DTSTAMP:20260421T033021
CREATED:20180118T202119Z
LAST-MODIFIED:20180118T202119Z
UID:12082-1521849600-1521935999@showmehelpingkids.com
SUMMARY:Troy Culler Memorial Basketball Tournament
DESCRIPTION:
URL:https://showmehelpingkids.com/event/troy-culler-memorial-basketball-tournament-3/
LOCATION:Show-Me Christian Youth Home\, 24302 Mahin Rd\, La Monte\, MO\, 65337\, United States
END:VEVENT
BEGIN:VEVENT
DTSTART;TZID=America/Chicago:20180310T170000
DTEND;TZID=America/Chicago:20180310T210000
DTSTAMP:20260421T033021
CREATED:20180118T175200Z
LAST-MODIFIED:20180118T175200Z
UID:12079-1520701200-1520715600@showmehelpingkids.com
SUMMARY:Restoration Gala
DESCRIPTION:Join Us for an Evening of Vision and Inspiration\nFeaturing author Mary DeMuth\nand Loren Halifax of Fox4 News Kansas City.\nGet you tickets now!  \nAll funds raised during this event will go towards the future expansion of Show-Me
URL:https://showmehelpingkids.com/event/restoration-gala/
LOCATION:UCM Elliott Student Union Ballroom\, Warrensburg\, United States
END:VEVENT
BEGIN:VEVENT
DTSTART;TZID=America/Chicago:20171028T150000
DTEND;TZID=America/Chicago:20171028T210000
DTSTAMP:20260421T033021
CREATED:20170925T000430Z
LAST-MODIFIED:20170925T000430Z
UID:11979-1509202800-1509224400@showmehelpingkids.com
SUMMARY:Fall Family Fun Fest
DESCRIPTION:We invite you to join us for our Fall Family Fun Fest\, Saturday October 28th from 3pm-9PM. \nThe doors of the Leadership U horse arena will open at 3PM for a time of family games-                                             Giant Jenga\, Giant Tic-Tac-Toe\, Cornhole\, Washers\, and many other fun activities. \nWe will have some great prizes for all the kids. \nJoin us for dinner at 5PM\, followed by music provided by the Knob Town Skiffle Band from 6-8PM (you may see some dancing 🙂 ).\nWe will top off our evening with a hayride and bonfire at 8PM. \nCome kick back and relax\, or kick your heels up on the dance floor\, either way\, there will be something for everyone. We hope to see you here! \nPlus it is absolutely FREE!
URL:https://showmehelpingkids.com/event/fall-family-fun-fest/
LOCATION:Show-Me Christian Youth Home\, 24302 Mahin Rd\, La Monte\, MO\, 65337\, United States
CATEGORIES:50th Anniversary Celebration,Community,Food,Music
ATTACH;FMTTYPE=image/jpeg:https://showmehelpingkids.com/wp-content/uploads/2017/09/Fall-Family-Fest-Web-Photo.jpg
END:VEVENT
BEGIN:VEVENT
DTSTART;TZID=America/Chicago:20170909T090000
DTEND;TZID=America/Chicago:20170909T160000
DTSTAMP:20260421T033021
CREATED:20170716T021110Z
LAST-MODIFIED:20170716T021110Z
UID:11945-1504947600-1504972800@showmehelpingkids.com
SUMMARY:50th Anniversary Annual Open House
DESCRIPTION:Join us at our Annual open house in celebration of our 50th Anniversary. \nWe have planned a day full of friends\, food\, and fun. \n \n \n4-H Silent Auction\, Bounce houses\, Pony rides and much\, much more! \nFeatured Events:\n9am—10am: Leadership U Horse Expo at the New Horse Arena\n10am—11am: Link Union Concert at the Gym\n11am—1pm: Lunch served by Nadlers Catering\n1pm—2pm: Special Program featuring the kids of Show-Me Christian Youth Home and other distinguished guests\n2pm—3pm: Link Union Concert at the Gym\n3pm—4pm: Leadership U Horse Expo at the New Horse Arena\n5pm: Alumni Dinner Hosted by the Path to Purpose Program \nTour Homes All-day Long \nNo Cost- Please be our guests! \n  \n 
URL:https://showmehelpingkids.com/event/50th-anniversary-annual-open-house/
LOCATION:MO
CATEGORIES:50th Anniversary Celebration,Community,Food,Promotion
ATTACH;FMTTYPE=image/jpeg:https://showmehelpingkids.com/wp-content/uploads/2017/07/50th-Open-House-Event-Photo-1.jpg
END:VEVENT
BEGIN:VEVENT
DTSTART;TZID=America/Chicago:20170820T080000
DTEND;TZID=America/Chicago:20170820T123000
DTSTAMP:20260421T033021
CREATED:20170605T010005Z
LAST-MODIFIED:20170605T010005Z
UID:11855-1503216000-1503232200@showmehelpingkids.com
SUMMARY:Stockton Christian Church
DESCRIPTION:
URL:https://showmehelpingkids.com/event/stockton-christian-church/
LOCATION:Stockton Christian Church\, Stockton\, MO\, United States
CATEGORIES:Promotion
END:VEVENT
BEGIN:VEVENT
DTSTART;TZID=America/Chicago:20170818T180000
DTEND;TZID=America/Chicago:20170818T200000
DTSTAMP:20260421T033021
CREATED:20170605T005730Z
LAST-MODIFIED:20170605T005730Z
UID:11852-1503079200-1503086400@showmehelpingkids.com
SUMMARY:Ward Memorial Baptist Church
DESCRIPTION:
URL:https://showmehelpingkids.com/event/ward-memorial-baptist-church/
LOCATION:Ward Memorial Baptist Church\, Sedalia\, MO\, Sedalia\, MO\, United States
CATEGORIES:Promotion
END:VEVENT
END:VCALENDAR