BEGIN:VCALENDAR
VERSION:2.0
PRODID:-//Show-Me Christian Youth Home - ECPv6.15.14//NONSGML v1.0//EN
CALSCALE:GREGORIAN
METHOD:PUBLISH
X-WR-CALNAME:Show-Me Christian Youth Home
X-ORIGINAL-URL:https://showmehelpingkids.com
X-WR-CALDESC:Events for Show-Me Christian Youth Home
REFRESH-INTERVAL;VALUE=DURATION:PT1H
X-Robots-Tag:noindex
X-PUBLISHED-TTL:PT1H
BEGIN:VTIMEZONE
TZID:America/Chicago
BEGIN:DAYLIGHT
TZOFFSETFROM:-0600
TZOFFSETTO:-0500
TZNAME:CDT
DTSTART:20150308T080000
END:DAYLIGHT
BEGIN:STANDARD
TZOFFSETFROM:-0500
TZOFFSETTO:-0600
TZNAME:CST
DTSTART:20151101T070000
END:STANDARD
BEGIN:DAYLIGHT
TZOFFSETFROM:-0600
TZOFFSETTO:-0500
TZNAME:CDT
DTSTART:20160313T080000
END:DAYLIGHT
BEGIN:STANDARD
TZOFFSETFROM:-0500
TZOFFSETTO:-0600
TZNAME:CST
DTSTART:20161106T070000
END:STANDARD
BEGIN:DAYLIGHT
TZOFFSETFROM:-0600
TZOFFSETTO:-0500
TZNAME:CDT
DTSTART:20170312T080000
END:DAYLIGHT
BEGIN:STANDARD
TZOFFSETFROM:-0500
TZOFFSETTO:-0600
TZNAME:CST
DTSTART:20171105T070000
END:STANDARD
END:VTIMEZONE
BEGIN:VEVENT
DTSTART;VALUE=DATE:20161204
DTEND;VALUE=DATE:20161205
DTSTAMP:20260419T173425
CREATED:20160831T044445Z
LAST-MODIFIED:20160831T044445Z
UID:11245-1480809600-1480895999@showmehelpingkids.com
SUMMARY:Visit Cedar Grove Christian Church
DESCRIPTION:
URL:https://showmehelpingkids.com/event/visit-cedar-grove-christian-church/
CATEGORIES:Promotion
END:VEVENT
BEGIN:VEVENT
DTSTART;VALUE=DATE:20161126
DTEND;VALUE=DATE:20161128
DTSTAMP:20260419T173425
CREATED:20160831T044331Z
LAST-MODIFIED:20160831T044331Z
UID:11241-1480118400-1480291199@showmehelpingkids.com
SUMMARY:Visit Connection Christian Church
DESCRIPTION:
URL:https://showmehelpingkids.com/event/visit-connection-christian-church/
LOCATION:Connection Christian Church\, Columbus\, OH\, United States
CATEGORIES:Promotion
END:VEVENT
BEGIN:VEVENT
DTSTART;VALUE=DATE:20161113
DTEND;VALUE=DATE:20161114
DTSTAMP:20260419T173425
CREATED:20160831T044115Z
LAST-MODIFIED:20160831T044115Z
UID:11237-1478995200-1479081599@showmehelpingkids.com
SUMMARY:Visit Ohio Christian Church
DESCRIPTION:
URL:https://showmehelpingkids.com/event/visit-ohio-christian-church/
LOCATION:Ohio Christian Church\, Lowry City\, MO\, United States
CATEGORIES:Promotion
END:VEVENT
BEGIN:VEVENT
DTSTART;VALUE=DATE:20161111
DTEND;VALUE=DATE:20161114
DTSTAMP:20260419T173425
CREATED:20160831T043852Z
LAST-MODIFIED:20160831T043852Z
UID:11233-1478822400-1479081599@showmehelpingkids.com
SUMMARY:Visit Forum Christian Church
DESCRIPTION:
URL:https://showmehelpingkids.com/event/visit-forum-christian-church/
LOCATION:Forum Christian Church
CATEGORIES:Promotion
END:VEVENT
BEGIN:VEVENT
DTSTART;VALUE=DATE:20161104
DTEND;VALUE=DATE:20161106
DTSTAMP:20260419T173425
CREATED:20160831T043729Z
LAST-MODIFIED:20160831T043729Z
UID:11229-1478217600-1478390399@showmehelpingkids.com
SUMMARY:Ozark Christian College
DESCRIPTION:
URL:https://showmehelpingkids.com/event/ozark-christian-college/
LOCATION:Ozark Christian College\, Joplin\, MO\, United States
CATEGORIES:Promotion
END:VEVENT
BEGIN:VEVENT
DTSTART;VALUE=DATE:20161023
DTEND;VALUE=DATE:20161024
DTSTAMP:20260419T173425
CREATED:20160831T043539Z
LAST-MODIFIED:20160831T043539Z
UID:11225-1477180800-1477267199@showmehelpingkids.com
SUMMARY:Visit Milan Christian Church
DESCRIPTION:
URL:https://showmehelpingkids.com/event/visit-milan-christian-church/
LOCATION:Milan Christian Church\, Milan\, MO\, United States
CATEGORIES:Promotion
END:VEVENT
BEGIN:VEVENT
DTSTART;VALUE=DATE:20161023
DTEND;VALUE=DATE:20161024
DTSTAMP:20260419T173425
CREATED:20160831T043352Z
LAST-MODIFIED:20160831T043352Z
UID:11223-1477180800-1477267199@showmehelpingkids.com
SUMMARY:Men's Encounter
DESCRIPTION:
URL:https://showmehelpingkids.com/event/mens-encounter/
CATEGORIES:Promotion
END:VEVENT
BEGIN:VEVENT
DTSTART;VALUE=DATE:20161002
DTEND;VALUE=DATE:20161003
DTSTAMP:20260419T173425
CREATED:20160831T043310Z
LAST-MODIFIED:20160831T043310Z
UID:11221-1475366400-1475452799@showmehelpingkids.com
SUMMARY:Women's Encounter
DESCRIPTION:
URL:https://showmehelpingkids.com/event/womens-encounter/
CATEGORIES:Promotion
END:VEVENT
BEGIN:VEVENT
DTSTART;VALUE=DATE:20161001
DTEND;VALUE=DATE:20161003
DTSTAMP:20260419T173425
CREATED:20160831T043141Z
LAST-MODIFIED:20160831T043141Z
UID:11217-1475280000-1475452799@showmehelpingkids.com
SUMMARY:Visit Church of Manteno
DESCRIPTION:
URL:https://showmehelpingkids.com/event/visit-church-of-manteno/
LOCATION:Church of Manteno\, Manteno\, IL\, United States
CATEGORIES:Promotion
END:VEVENT
BEGIN:VEVENT
DTSTART;VALUE=DATE:20160925
DTEND;VALUE=DATE:20160926
DTSTAMP:20260419T173425
CREATED:20160831T042953Z
LAST-MODIFIED:20160831T042953Z
UID:11213-1474761600-1474847999@showmehelpingkids.com
SUMMARY:Visit First Christian Church
DESCRIPTION:
URL:https://showmehelpingkids.com/event/visit-first-christian-church-2/
LOCATION:First Christian Church – Golden City\, Golden City\, MO\, United States
CATEGORIES:Promotion
END:VEVENT
BEGIN:VEVENT
DTSTART;VALUE=DATE:20160925
DTEND;VALUE=DATE:20160926
DTSTAMP:20260419T173425
CREATED:20160831T042749Z
LAST-MODIFIED:20160831T042749Z
UID:11209-1474761600-1474847999@showmehelpingkids.com
SUMMARY:Visit Laredo Christian Church
DESCRIPTION:
URL:https://showmehelpingkids.com/event/visit-laredo-christian-church/
LOCATION:Laredo Christian Church\, Laredo\, MO\, United States
CATEGORIES:Promotion
END:VEVENT
BEGIN:VEVENT
DTSTART;TZID=America/Chicago:20160918T090000
DTEND;TZID=America/Chicago:20160918T120000
DTSTAMP:20260419T173425
CREATED:20160831T042039Z
LAST-MODIFIED:20160831T042039Z
UID:11201-1474189200-1474200000@showmehelpingkids.com
SUMMARY:Visit Fontana Christian Church
DESCRIPTION:
URL:https://showmehelpingkids.com/event/visit-fontana-christian-church/
CATEGORIES:Promotion
END:VEVENT
BEGIN:VEVENT
DTSTART;TZID=America/Chicago:20160918T090000
DTEND;TZID=America/Chicago:20160918T120000
DTSTAMP:20260419T173425
CREATED:20160831T041812Z
LAST-MODIFIED:20160831T041812Z
UID:11197-1474189200-1474200000@showmehelpingkids.com
SUMMARY:Visit Community Christian Church
DESCRIPTION:
URL:https://showmehelpingkids.com/event/visit-community-christian-church/
CATEGORIES:Promotion
END:VEVENT
BEGIN:VEVENT
DTSTART;TZID=America/Chicago:20160918T090000
DTEND;TZID=America/Chicago:20160918T120000
DTSTAMP:20260419T173425
CREATED:20160831T041624Z
LAST-MODIFIED:20160831T041624Z
UID:11193-1474189200-1474200000@showmehelpingkids.com
SUMMARY:Visit Milville United Methodist
DESCRIPTION:
URL:https://showmehelpingkids.com/event/visit-milville-united-methodist/
LOCATION:Milville United Methodist Church\, MO\, United States
CATEGORIES:Promotion
END:VEVENT
BEGIN:VEVENT
DTSTART;TZID=America/Chicago:20160918T090000
DTEND;TZID=America/Chicago:20160918T120000
DTSTAMP:20260419T173425
CREATED:20160831T041435Z
LAST-MODIFIED:20160831T041435Z
UID:11189-1474189200-1474200000@showmehelpingkids.com
SUMMARY:Visit First Christian Church
DESCRIPTION:
URL:https://showmehelpingkids.com/event/visit-first-christian-church/
LOCATION:First Christian Church – Unionville\, Unionville\, MO\, United States
CATEGORIES:Promotion
END:VEVENT
BEGIN:VEVENT
DTSTART;TZID=America/Chicago:20160918T090000
DTEND;TZID=America/Chicago:20160918T120000
DTSTAMP:20260419T173425
CREATED:20160831T041127Z
LAST-MODIFIED:20160831T041127Z
UID:11184-1474189200-1474200000@showmehelpingkids.com
SUMMARY:Visit Moniteau Chapel
DESCRIPTION:
URL:https://showmehelpingkids.com/event/visit-moniteau-chapel/
LOCATION:Moniteau Chapel\, Fayette\, MO\, United States
CATEGORIES:Promotion
END:VEVENT
BEGIN:VEVENT
DTSTART;VALUE=DATE:20160917
DTEND;VALUE=DATE:20160919
DTSTAMP:20260419T173425
CREATED:20160831T042533Z
LAST-MODIFIED:20160831T042533Z
UID:11205-1474070400-1474243199@showmehelpingkids.com
SUMMARY:Visit Westside Christian Church
DESCRIPTION:
URL:https://showmehelpingkids.com/event/visit-westside-christian-church/
LOCATION:Westside Christian Church\, Yukon\, OK\, United States
CATEGORIES:Promotion
END:VEVENT
BEGIN:VEVENT
DTSTART;TZID=America/Chicago:20160911T090000
DTEND;TZID=America/Chicago:20160911T120000
DTSTAMP:20260419T173425
CREATED:20160831T032801Z
LAST-MODIFIED:20160831T032801Z
UID:11180-1473584400-1473595200@showmehelpingkids.com
SUMMARY:Visit Solid Rock Christian Church
DESCRIPTION:
URL:https://showmehelpingkids.com/event/visit-solid-rock-christian-church/
LOCATION:Solid Rock Christian Church\, St. James\, MO\, United States
CATEGORIES:Promotion
END:VEVENT
BEGIN:VEVENT
DTSTART;TZID=America/Chicago:20160910T150000
DTEND;TZID=America/Chicago:20160910T160000
DTSTAMP:20260419T173425
CREATED:20160823T180742Z
LAST-MODIFIED:20160823T180742Z
UID:2073-1473519600-1473523200@showmehelpingkids.com
SUMMARY:Alumni Reception
DESCRIPTION:We invite all former Show Me kids and staff for a special reception in your honor\, Saturday September 10th at 3pm\, following our annual open house. Come browse through pictures of days gone by\, along with time for sharing memories and catching up with old friends.
URL:https://showmehelpingkids.com/event/alumni-reception/
LOCATION:Main Campus\, 24302 Mahin Road\, La Monte\, MO\, 65337\, United States
CATEGORIES:Community
ATTACH;FMTTYPE=image/jpeg:https://showmehelpingkids.com/wp-content/uploads/2016/08/children_running2.jpg
END:VEVENT
BEGIN:VEVENT
DTSTART;TZID=America/Chicago:20160910T100000
DTEND;TZID=America/Chicago:20160910T150000
DTSTAMP:20260419T173425
CREATED:20160823T175402Z
LAST-MODIFIED:20160823T175402Z
UID:2065-1473501600-1473519600@showmehelpingkids.com
SUMMARY:Annual Open House
DESCRIPTION:Faith\, Family and Fun!\nJoin our family to see first-hand the difference your support makes in the lives of the outstanding young people that call Show-Me “Home.” \nFree Event with: \n\nMusic concert by Link Union\nSmoked Pork Lunch\n‘Leadership U’ Horse Program Exhibition\nMusic by the Kids of Show-Me\nTours of Homes\n\nFor the Kids: \n\nFamily Carnival including bounce house\, face painting and kid’s games\nSwimming\nPrizes
URL:https://showmehelpingkids.com/event/annual-open-house/
LOCATION:Main Campus\, 24302 Mahin Road\, La Monte\, MO\, 65337\, United States
CATEGORIES:Community
ATTACH;FMTTYPE=image/jpeg:https://showmehelpingkids.com/wp-content/uploads/2016/08/annual-open-house2.jpg
END:VEVENT
END:VCALENDAR